BEGIN:VCALENDAR
VERSION:2.0
PRODID:-//wp-events-plugin.com//7.2.3.1//EN
BEGIN:VEVENT
UID:46@thinkmita.org
DTSTART;TZID=America/Detroit:20240411T000000
DTEND;TZID=America/Detroit:20240816T235900
DTSTAMP:20240610T160739Z
URL:https://thinkmita.org/events/2024-golf-sponsorships-all-outings/
SUMMARY:2024 Golf Sponsorships - All Outings
DESCRIPTION:Golf Sponsorship Opportunities are as follows:\n\nPackage Optio
 ns - Available until May 31\, 2024.\n\nHole Sponsorship Package ($600): Th
 is package includes the sponsorship of one hole at the Western\, Central\,
  Metro\, and Northern Outings for 2024.\n\nBeverage Sponsorship Package ($
 1\,500): This package includes beverage sponsorship recognition at the Wes
 tern\, Central\, Metro\, and Northern Outings for 2024.\nHole &amp\; Bever
 age Sponsorship Package ($2\,000) BEST VALUE - SAVE $500: This package inc
 ludes one-hole sponsorship and beverage sponsorship recognition at the Wes
 tern\, Central\, Metro\, and Northern Outings for 2024.\nIndividual Outing
  Options\n\nWestern Outing Only\, June 6\, 2024 - Sponsorship Opportunitie
 s\nHole Sponsor - $175\nBeverage Sponsor - $450\nHole and Beverage Sponsor
  - $600\n\nMetro Outing Only\, July 17\, 2024 - Sponsorship Opportunities\
 nHole Sponsor - $175\nBeverage Sponsor - $450\nHole and Beverage Sponsor -
  $600\n\nCentral Outing Only\, August 22\, 2024 - Sponsorship Opportunitie
 s\nHole Sponsor - $175\nBeverage Sponsor - $450\nHole and Beverage Sponsor
  - $600\n\nNorthern Outing Only\, September 12\, 2024 - Sponsorship Opport
 unities\nHole Sponsor - $175\nBeverage Sponsor - $450\nHole and Beverage S
 ponsor - $600\n\nPlease choose your desired sponsorship ticket below.\n\nI
 f you have any questions\, please contact Danielle Coppersmith.
ATTACH;FMTTYPE=image/jpeg:https://thinkmita.org/wp-content/uploads/Golf-Sp
 onsorship-banner.png
CATEGORIES:Golf Outings
END:VEVENT
BEGIN:VTIMEZONE
TZID:America/Detroit
X-LIC-LOCATION:America/Detroit
BEGIN:DAYLIGHT
DTSTART:20240310T030000
TZOFFSETFROM:-0500
TZOFFSETTO:-0400
TZNAME:EDT
END:DAYLIGHT
END:VTIMEZONE
END:VCALENDAR