BEGIN:VCALENDAR
VERSION:2.0
PRODID:-//wp-events-plugin.com//7.2.3.1//EN
BEGIN:VEVENT
UID:47@thinkmita.org
DTSTART;TZID=America/Detroit:20240912T000000
DTEND;TZID=America/Detroit:20240912T235900
DTSTAMP:20240816T154431Z
URL:https://thinkmita.org/events/2024-northern-golf-outing-the-bear-traver
 se-city/
SUMMARY:2024 Northern Golf Outing - The Bear\, Traverse City
DESCRIPTION:Registration at 7:00 a.m.\nShotgun Tee Off at 8:00 am UPDATED!!
    *8 AM SHOTGUN!\n\n$800/Foursome Package Includes:\n\nGreens Fees for 4
 \nContinental Breakfast\nLunch at the Turn\nBeverages All Day\nDinner Foll
 owing Golf\n\nCancellation Policy\nAny cancellation made 7 days before the
  event will be eligible for a full refund. Refunds for cancellations recei
 ved after 7 days will be at the discretion of MITA. NO SHOWS WILL BE BILLE
 D.
ATTACH;FMTTYPE=image/jpeg:https://thinkmita.org/wp-content/uploads/NMR2024
 .png
CATEGORIES:Golf Outings
LOCATION:The Bear Golf Course\, 100 Grand Traverse Village Blvd\, Acme\, MI
 \, 49610\, Northern\, United States
X-APPLE-STRUCTURED-LOCATION;VALUE=URI;X-ADDRESS=100 Grand Traverse Village 
 Blvd\, Acme\, MI\, 49610\, Northern\, United States;X-APPLE-RADIUS=100;X-T
 ITLE=The Bear Golf Course:geo:0,0
END:VEVENT
BEGIN:VTIMEZONE
TZID:America/Detroit
X-LIC-LOCATION:America/Detroit
BEGIN:DAYLIGHT
DTSTART:20240310T030000
TZOFFSETFROM:-0500
TZOFFSETTO:-0400
TZNAME:EDT
END:DAYLIGHT
END:VTIMEZONE
END:VCALENDAR