BEGIN:VCALENDAR
VERSION:2.0
PRODID:-//wp-events-plugin.com//7.2.3.1//EN
BEGIN:VEVENT
UID:76@thinkmita.org
DTSTART;TZID=America/Detroit:20250331T000000
DTEND;TZID=America/Detroit:20250901T235900
DTSTAMP:20250709T125638Z
URL:https://thinkmita.org/events/2025-golf-sponsorships-all-outings/
SUMMARY:2025 Golf Sponsorships - All Outings
DESCRIPTION:Golf Sponsorship Opportunities are as follows:\nPackage Options
  - Available until June 2\, 2025.\nHole Sponsorship Package ($600): This p
 ackage includes the sponsorship of one hole at the Western\, Central\, Met
 ro\, and Northern Outings for 2025.\n\nBeverage Sponsorship Package ($1\,5
 00): This package includes beverage sponsorship recognition at the Western
 \, Central\, Metro\, and Northern Outings for 2025.\nHole &amp\; Beverage 
 Sponsorship Package ($2\,000) BEST VALUE -  This package includes one-hol
 e sponsorship and beverage sponsorship recognition at the Western\, Centra
 l\, Metro\, and Northern Outings for 2025.\n\nIndividual Outing Options\nW
 estern Outing Only\, June 11\, 2025 - Sponsorship Opportunities\nHole Spon
 sor - $175\nBeverage Sponsor - $450\nHole and Beverage Sponsor - $600\n\nM
 etro Outing Only\, July 16\, 2025 - Sponsorship Opportunities\nHole Sponso
 r - $175\nBeverage Sponsor - $450\nHole and Beverage Sponsor - $600\n\nCen
 tral Outing Only\, August 27\, 2025 - Sponsorship Opportunities\nHole Spon
 sor - $175\nBeverage Sponsor - $450\nHole and Beverage Sponsor - $600\n\nN
 orthern Outing Only\, September 11\, 2025 - Sponsorship Opportunities\nHol
 e Sponsor - $175\nBeverage Sponsor - $450\nHole and Beverage Sponsor - $60
 0\n\nPlease choose your desired sponsorship ticket below.\n\nIf you have a
 ny questions\, please contact Danielle Coppersmith.
ATTACH;FMTTYPE=image/jpeg:https://thinkmita.org/wp-content/uploads/Golf-Sp
 onsorship-banner.png
CATEGORIES:Golf Outings
END:VEVENT
BEGIN:VTIMEZONE
TZID:America/Detroit
X-LIC-LOCATION:America/Detroit
BEGIN:DAYLIGHT
DTSTART:20250309T030000
TZOFFSETFROM:-0500
TZOFFSETTO:-0400
TZNAME:EDT
END:DAYLIGHT
END:VTIMEZONE
END:VCALENDAR