BEGIN:VCALENDAR
VERSION:2.0
PRODID:-//wp-events-plugin.com//7.2.3.1//EN
BEGIN:VEVENT
UID:62@thinkmita.org
DTSTART;TZID=America/Detroit:20251212T113000
DTEND;TZID=America/Detroit:20251212T133000
DTSTAMP:20251211T150050Z
URL:https://thinkmita.org/events/2025-holiday-party-central/
SUMMARY:2025 Central Holiday Party - Lansing
DESCRIPTION:Celebrate the season and mingle with your industry counterparts
  at one or all of the MITA Holiday Parties. Hors d'oeuvres\, cocktails and
  plenty of holiday spirit (no speeches or presentations) will be served.\n
 \nDECEMBER 12\, 2025\n11:30 AM - 1:30 PM\n\nJOE'S ON JOLLY\n2360 JOLLY RD.
 \, OKEMOS\n$55/PERSON
ATTACH;FMTTYPE=image/jpeg:https://thinkmita.org/wp-content/uploads/2025-Ho
 liday-PartiesBanner.png
CATEGORIES:Holiday Parties
LOCATION:Joe's on Jolly\, 2360 Jolly Rd.\, Okemos\, MI\, 48864\, University
 \, United States
X-APPLE-STRUCTURED-LOCATION;VALUE=URI;X-ADDRESS=2360 Jolly Rd.\, Okemos\, M
 I\, 48864\, University\, United States;X-APPLE-RADIUS=100;X-TITLE=Joe's on
  Jolly:geo:0,0
END:VEVENT
BEGIN:VTIMEZONE
TZID:America/Detroit
X-LIC-LOCATION:America/Detroit
BEGIN:STANDARD
DTSTART:20251102T010000
TZOFFSETFROM:-0400
TZOFFSETTO:-0500
TZNAME:EST
END:STANDARD
END:VTIMEZONE
END:VCALENDAR