BEGIN:VCALENDAR
VERSION:2.0
PRODID:-//wp-events-plugin.com//7.2.3.1//EN
BEGIN:VEVENT
UID:64@thinkmita.org
DTSTART;TZID=America/Detroit:20251218T113000
DTEND;TZID=America/Detroit:20251218T133000
DTSTAMP:20251217T160922Z
URL:https://thinkmita.org/events/2025-holiday-party-metro/
SUMMARY:2025 Metro Holiday Party - Troy
DESCRIPTION:Celebrate the season and mingle with your industry counterparts
  at one or all of the MITA Holiday Parties. Hors d'oeuvres\, cocktails and
  plenty of holiday spirit (no speeches or presentations) will be served.\n
 \nDecember 18\, 2025\n11:30 AM - 1:30 PM\n\nSOMMERSET INN\n2601 W. BIG BEA
 VER RD.\, TROY\n$55/person
ATTACH;FMTTYPE=image/jpeg:https://thinkmita.org/wp-content/uploads/2025-Ho
 liday-PartiesBanner.png
CATEGORIES:Holiday Parties
LOCATION:The Somerset Inn\, 2601 W. Big Beaver Rd.\, Troy\, MI\, 48084\, Un
 ited States
X-APPLE-STRUCTURED-LOCATION;VALUE=URI;X-ADDRESS=2601 W. Big Beaver Rd.\, Tr
 oy\, MI\, 48084\, United States;X-APPLE-RADIUS=100;X-TITLE=The Somerset In
 n:geo:0,0
END:VEVENT
BEGIN:VTIMEZONE
TZID:America/Detroit
X-LIC-LOCATION:America/Detroit
BEGIN:STANDARD
DTSTART:20251102T010000
TZOFFSETFROM:-0400
TZOFFSETTO:-0500
TZNAME:EST
END:STANDARD
END:VTIMEZONE
END:VCALENDAR