BEGIN:VCALENDAR
VERSION:2.0
PRODID:-//wp-events-plugin.com//7.2.3.1//EN
BEGIN:VEVENT
UID:57@thinkmita.org
DTSTART;TZID=America/Detroit:20250326T080000
DTEND;TZID=America/Detroit:20250326T160000
DTSTAMP:20250324T161611Z
URL:https://thinkmita.org/events/2025-west-michigan-training-day/
SUMMARY:2025 West Michigan Training Day
DESCRIPTION:[et_pb_section fb_built="1" admin_label="section" _builder_vers
 ion="4.16" global_colors_info="{}"][et_pb_row admin_label="row" _builder_v
 ersion="4.16" background_size="initial" background_position="top_left" bac
 kground_repeat="repeat" global_colors_info="{}"][et_pb_column type="4_4" _
 builder_version="4.16" custom_padding="|||" global_colors_info="{}" custom
 _padding__hover="|||"][et_pb_text admin_label="Text" _builder_version="4.1
 6" background_size="initial" background_position="top_left" background_rep
 eat="repeat" global_colors_info="{}"]A One-Day Safety Training Workshop\n\
 nEnsure your crew is up-to-date on critical safety certifications and stan
 dards with MITA’s comprehensive training day. Save time and resources by
  enrolling your team in one convenient session – tailored to cover the e
 ssentials every construction crew needs to stay safe and compliant.\n\n
 📅 Date: March 26\, 2025\n📍 Location: The Sneeden Center\, Davenport 
 College\, Grand Rapids\n💵 Cost: $95 per person (includes training\, con
 tinental breakfast &amp\; lunch)\n\nSchedule &amp\; Training Topics:\n\n8:
 00 AM - Registration \n\n8:30 - 11:00 AM\nFirst Aid and CPR Refresher\nKee
 p your crew prepared for any emergency on-site. MIOSHA requires at least o
 ne certified First Aid/CPR team member per crew. Refresh your skills and b
 e ready when it counts.\n\n11:00 AM - 12:00 PM\nOSHA Fatal Four Training\n
 Covering the most dangerous hazards in construction:\n\n 	Falls: The leadi
 ng cause of injury on job sites.\n 	Struck-by: Keeping crew members aware 
 of moving objects.\n 	Caught-in or between: Avoiding entrapment risks.\n 	
 Electrocution: Recognizing and avoiding electrical hazards.\n\n12:00 - 1:0
 0 PM\nLunch Provided\n\n1:00 - 4:00 PM\nExcavation and Trenching Training\
 nKnow the rules\, stay compliant and keep your team safe. We’ll cover MI
 OSHA’s Part 9 Excavating and Trenching standards to help your excavation
  crews stay up-to-date and prevent accidents.[/et_pb_text][/et_pb_column][
 /et_pb_row][/et_pb_section]
ATTACH;FMTTYPE=image/jpeg:https://thinkmita.org/wp-content/uploads/WMR-Tra
 ining-Day-2025.png
CATEGORIES:Safety,Safety Training
LOCATION:The Sneeden Center at Davenport College\, 6191 Kraft Ave. SE\, Gra
 nd Rapids\, MI\, 49512\, United States
X-APPLE-STRUCTURED-LOCATION;VALUE=URI;X-ADDRESS=6191 Kraft Ave. SE\, Grand 
 Rapids\, MI\, 49512\, United States;X-APPLE-RADIUS=100;X-TITLE=The Sneeden
  Center at Davenport College:geo:0,0
END:VEVENT
BEGIN:VTIMEZONE
TZID:America/Detroit
X-LIC-LOCATION:America/Detroit
BEGIN:DAYLIGHT
DTSTART:20250309T030000
TZOFFSETFROM:-0500
TZOFFSETTO:-0400
TZNAME:EDT
END:DAYLIGHT
END:VTIMEZONE
END:VCALENDAR