BEGIN:VCALENDAR
VERSION:2.0
PRODID:-//wp-events-plugin.com//7.2.3.1//EN
BEGIN:VEVENT
UID:104@thinkmita.org
DTSTART;TZID=America/Detroit;VALUE=DATE:20260910
DTEND;TZID=America/Detroit;VALUE=DATE:20260911
DTSTAMP:20260414T145236Z
URL:https://thinkmita.org/events/2026-northern-golf-outing-otsego-club/
SUMMARY:2026 Northern Golf Outing - Otsego Club
DESCRIPTION:MITA events are exclusive to members. Not a member yet? We’d 
 love to have you—email sarahalex@thinkmita.org to learn more about joini
 ng.\n\nRegistration at 8:00 a.m.\nShotgun Tee Off at 9:00 am\n\nFoursome P
 ackage Includes:\n\nGreens Fees for 4\nContinental Breakfast\nLunch at the
  Turn\nBeverages All Day\nDinner Following Golf\n\nCancellation Policy\nAn
 y cancellation made 7 days before the event will be eligible for a full re
 fund. Refunds for cancellations received after 7 days will be at the discr
 etion of MITA. NO SHOWS WILL BE BILLED.
ATTACH;FMTTYPE=image/jpeg:https://thinkmita.org/wp-content/uploads/Norther
 n-2026.png
CATEGORIES:Golf Outings
LOCATION:Otsego Club\, 696 M-32 East\, Gaylord\, MI\, 49734\, Northern\, Un
 ited States
X-APPLE-STRUCTURED-LOCATION;VALUE=URI;X-ADDRESS=696 M-32 East\, Gaylord\, M
 I\, 49734\, Northern\, United States;X-APPLE-RADIUS=100;X-TITLE=Otsego Clu
 b:geo:0,0
END:VEVENT
BEGIN:VTIMEZONE
TZID:America/Detroit
X-LIC-LOCATION:America/Detroit
BEGIN:DAYLIGHT
DTSTART:20260308T030000
TZOFFSETFROM:-0500
TZOFFSETTO:-0400
TZNAME:EDT
END:DAYLIGHT
END:VTIMEZONE
END:VCALENDAR