BEGIN:VCALENDAR
VERSION:2.0
PRODID:-//wp-events-plugin.com//7.2.3.1//EN
BEGIN:VEVENT
UID:33@thinkmita.org
DTSTART;TZID=America/Detroit:20240509T100000
DTEND;TZID=America/Detroit:20240509T120000
DTSTAMP:20240416T141619Z
URL:https://thinkmita.org/events/dbra-2023-final-rule-changes-mdot-3rd-ses
 sion-05-09-2024/
SUMMARY:DBRA 2023 Final Rule Changes MDOT 3rd Session - 05/09/2024 - SESSIO
 N FULL
DESCRIPTION:UPDATE: SESSION FULL\n\n&nbsp\;\n\nDue to high demand a third s
 ession is now being offered. With the recent changes stemming from the Dav
 is-Bacon and Related Acts (DBRA) 2023 Final Rule\, MITA will be hosting a 
 third session with MDOT’s prevailing wage specialist. The session will c
 over the pertinent changes for Michigan\, a list of detailed examples\, an
 d answers to industry questions.\n\nThe session will be in person at the M
 ITA offices on Thursday\, May 9th\, 2024 from 10 am-12 pm\n\nIf you have a
 ny questions\, please contact any member of the MITA engineering team:\nRa
 chelle VanDeventer | rachellevandeventer@thinkmita.org\nGlenn Bukoski | gl
 ennbukoski@thinkmita.org\nJeremiah Leyba | jeremiahleyba@thinkmita.org\nTh
 ey can also be reached by phone at the MITA office: 517-347-8336\n\nRefres
 hments sponsored by\, BCT Benefits.\n\n
ATTACH;FMTTYPE=image/jpeg:https://thinkmita.org/wp-content/uploads/2019/04
 /MDOT-LO-RES-color.jpg
CATEGORIES:Engineering
LOCATION:MITA\, 2937 Atrium Dr\, Okemos\, MI\, 48864\, United States
X-APPLE-STRUCTURED-LOCATION;VALUE=URI;X-ADDRESS=2937 Atrium Dr\, Okemos\, M
 I\, 48864\, United States;X-APPLE-RADIUS=100;X-TITLE=MITA:geo:0,0
END:VEVENT
BEGIN:VTIMEZONE
TZID:America/Detroit
X-LIC-LOCATION:America/Detroit
BEGIN:DAYLIGHT
DTSTART:20240310T030000
TZOFFSETFROM:-0500
TZOFFSETTO:-0400
TZNAME:EDT
END:DAYLIGHT
END:VTIMEZONE
END:VCALENDAR