BEGIN:VCALENDAR
VERSION:2.0
PRODID:-//wp-events-plugin.com//7.2.3.1//EN
BEGIN:VEVENT
UID:37@thinkmita.org
DTSTART;TZID=America/Detroit:20240326T133000
DTEND;TZID=America/Detroit:20240326T153000
DTSTAMP:20240304T172112Z
URL:https://thinkmita.org/events/mdot-apcm-training-march-26th-2024/
SUMMARY:MDOT APCM Training - March 26th\, 2024
DESCRIPTION:MDOT will be holding three AASHTOWare Project Construction and 
 Materials (APCM) training sessions at the MITA office to train on MDOT’s
  recently implemented APCM software. MDOT implemented APCM (MDOT’s repla
 cement for FieldManager) last August on trunkline projects and plans to ex
 pand implementation to local projects this fall/winter. Please consider at
 tending one of the training sessions at MITA or visit MDOT’s APCM traini
 ng website for more options.\n\nThis in-person APCM training is scheduled 
 at the MITA office for:\n Tuesday\, March 26th\, 2024 from 1:30 PM to 3
 :30 PM
CATEGORIES:Engineering
LOCATION:MITA\, 2937 Atrium Dr\, Okemos\, MI\, 48864\, United States
X-APPLE-STRUCTURED-LOCATION;VALUE=URI;X-ADDRESS=2937 Atrium Dr\, Okemos\, M
 I\, 48864\, United States;X-APPLE-RADIUS=100;X-TITLE=MITA:geo:0,0
END:VEVENT
BEGIN:VTIMEZONE
TZID:America/Detroit
X-LIC-LOCATION:America/Detroit
BEGIN:DAYLIGHT
DTSTART:20240310T030000
TZOFFSETFROM:-0500
TZOFFSETTO:-0400
TZNAME:EDT
END:DAYLIGHT
END:VTIMEZONE
END:VCALENDAR