BEGIN:VCALENDAR
VERSION:2.0
PRODID:-//wp-events-plugin.com//7.2.3.1//EN
BEGIN:VEVENT
UID:92@thinkmita.org
DTSTART;TZID=America/Detroit:20260319T080000
DTEND;TZID=America/Detroit:20260319T160000
DTSTAMP:20260309T135238Z
URL:https://thinkmita.org/events/mita-damage-prevention-day/
SUMMARY:MITA Damage Prevention Day
DESCRIPTION:Date: Thursday\, March 19\, 2026\nLocation:  Hawk Hollow\n(Lak
 epoint)\n15101 Chandler Rd\, Bath\, MI 48808\nCost: $200 per person\nPreve
 nt utility damages before they happen.MITA is presenting a full day of tra
 ining focused on preventing underground utility damages — including best
  practices\, legal updates\, and real-world lessons to keep your crews saf
 e and projects moving.\nWho Should Attend:Foremen\, Operators\, Safety Pro
 fessionals\, Project Managers\nYou’ll Learn:\n-Recognizing and preventin
 g utility damage\n-Understanding Public Act 174 and MISS DIG 811 best prac
 tices\n-Coordination tips between excavators\, locators\, and utility owne
 rs\n-Root cause analysis of common utility strikes\n-Tools and resources f
 rom MITA and partners\nFeatured Speakers:-Greg Brooks\, Director of Safety
  &amp\; Compliance\, MITA-Pat Goddard\, Supervisor &amp\; Damage Preventio
 n Liaison\, MISS DIG 811-Dave Chislea\, Director\, Gas Safety &amp\; Opera
 tions Division\, MPSC-Sarah McKenzie\, Senior Damage Prevention Liaison\, 
 DTE Energy\nRegistration: $200 per personQuestions: Email Sarah Alex at sa
 rahalex@thinkmita.org\nCancellation policy:Full refund through March 12\, 
 2026. After that\, refunds at MITA’s discretion. No-shows will be billed
 .
ATTACH;FMTTYPE=image/jpeg:https://thinkmita.org/wp-content/uploads/DamageP
 revBanner.jpg
CATEGORIES:Safety Training
LOCATION:Hawk Hollow Golf Course\, 15101 Chandler Rd\, Bath Twp\, MI\, 4880
 8\, United States
X-APPLE-STRUCTURED-LOCATION;VALUE=URI;X-ADDRESS=15101 Chandler Rd\, Bath Tw
 p\, MI\, 48808\, United States;X-APPLE-RADIUS=100;X-TITLE=Hawk Hollow Golf
  Course:geo:0,0
END:VEVENT
BEGIN:VTIMEZONE
TZID:America/Detroit
X-LIC-LOCATION:America/Detroit
BEGIN:DAYLIGHT
DTSTART:20260308T030000
TZOFFSETFROM:-0500
TZOFFSETTO:-0400
TZNAME:EDT
END:DAYLIGHT
END:VTIMEZONE
END:VCALENDAR