BEGIN:VCALENDAR
VERSION:2.0
PRODID:-//wp-events-plugin.com//7.2.3.1//EN
BEGIN:VEVENT
UID:40@thinkmita.org
DTSTART;TZID=America/Detroit:20240415T000000
DTEND;TZID=America/Detroit:20240415T000000
DTSTAMP:20240312T191828Z
URL:https://thinkmita.org/events/national-work-zone-awareness-week-kick-of
 f-april-15-2024/
SUMMARY:National Work Zone Awareness Week Kick-off\, April 15\, 2024
DESCRIPTION:Register for the NWZAW event.\n\nWith the goal of eliminating w
 ork zone injuries and deaths\, MDOT is proud to participate in the 2024 Na
 tional Work Zone Awareness Week (NWZAW)\, which runs April 15-19.\n\n 	The
  work zone awareness news conference event will be held at 11 a.m. Monday\
 , April 15\, at Dow Diamond in Midland.\n 	The event will feature key spea
 kers from: Michigan Department of Transportation (MDOT)\, Michigan State P
 olice (MSP)\, Michigan Occupational Safety and Health Administration (MIOS
 HA)\, American Traffic Safety Services Association (ATSSA)\, Michigan Infr
 astructure and Transportation Association (MITA)\, and Dow.\n 	The event w
 ill honor the workers\, motorists and families of those killed in work zon
 es this past year.\n 	Dow will also be hosting several vendors from our in
 dustry that will showcase different lifesaving traffic control devices and
  processes.\n\nWhat it is: NWZAW is an annual public awareness campaign he
 ld each spring to educate road users and workers about the importance of w
 ork zone safety. The campaign encourages safe driving and using extra caut
 ion in work zones.\n\nWhy it matters: MDOT's goal is zero road fatalities 
 and serious injuries. By slowing down\, obeying signs\, minimizing distrac
 tions\, and working safely\, we can ensure that drivers\, passengers\, and
  workers make it home to their loved ones every day.\n\nShow your support:
  Purchase your own MDOT work zone apparel. Visit MDOT Work Zone Awareness 
 and submit your order. Orders are due by end of day Monday\, March 18 and 
 will be shipped directly to you.\n\nThe bottom line: Together\, we can ach
 ieve the safety goal of zero deaths in our work zones and on our roads!
ATTACH;FMTTYPE=image/jpeg:https://thinkmita.org/wp-content/uploads/2024-WZ
 _awareness.jpg
CATEGORIES:Industry Event
LOCATION:Dow Diamond\, 825 E Main St\, Midland\, MI\, 48640\, United States
X-APPLE-STRUCTURED-LOCATION;VALUE=URI;X-ADDRESS=825 E Main St\, Midland\, M
 I\, 48640\, United States;X-APPLE-RADIUS=100;X-TITLE=Dow Diamond:geo:0,0
END:VEVENT
BEGIN:VTIMEZONE
TZID:America/Detroit
X-LIC-LOCATION:America/Detroit
BEGIN:DAYLIGHT
DTSTART:20240310T030000
TZOFFSETFROM:-0500
TZOFFSETTO:-0400
TZNAME:EDT
END:DAYLIGHT
END:VTIMEZONE
END:VCALENDAR