BEGIN:VCALENDAR
VERSION:2.0
PRODID:-//wp-events-plugin.com//7.2.3.1//EN
BEGIN:VEVENT
UID:93@thinkmita.org
DTSTART;TZID=America/Detroit:20260127T080000
DTEND;TZID=America/Detroit:20260130T160000
DTSTAMP:20260115T180327Z
URL:https://thinkmita.org/events/osha-30-2026/
SUMMARY:OSHA 30 2026
DESCRIPTION:Build the safety leadership skills your team needs with MITA’
 s in-person OSHA 30 Training. Over four full days\, participants will cove
 r essential construction safety topics and leave better equipped to identi
 fy hazards\, protect crews\, and keep projects moving safely.\n\nWhen &amp
 \; Where\nDates: Tuesday–Friday\, January 27–30\, 2026\nTime: 8:00 AM 
 – 4:30 PM each day\nLocation: MITA Office\, 2937 Atrium Dr.\, Okemos\, M
 I 48864\n\nWhat’s Included\nAll training materials\nContinental breakfas
 t each day\nLunch provided daily\n\nCost\n$600 per person (space is limite
 d)\n\nQuestions?\nEmail Sarah Alex at sarahalex@thinkmita.org.\n\nCancella
 tion Policy\nCancellations must be received one week before the event to b
 e eligible for a full refund. Refunds for later cancellations are at MITA
 ’s discretion. No-shows will be billed.
ATTACH;FMTTYPE=image/jpeg:https://thinkmita.org/wp-content/uploads/OSHA-30
 V2.png
CATEGORIES:Safety Training
LOCATION:MITA\, 2937 Atrium Dr\, Okemos\, MI\, 48864\, United States
X-APPLE-STRUCTURED-LOCATION;VALUE=URI;X-ADDRESS=2937 Atrium Dr\, Okemos\, M
 I\, 48864\, United States;X-APPLE-RADIUS=100;X-TITLE=MITA:geo:0,0
END:VEVENT
BEGIN:VTIMEZONE
TZID:America/Detroit
X-LIC-LOCATION:America/Detroit
BEGIN:STANDARD
DTSTART:20251102T010000
TZOFFSETFROM:-0400
TZOFFSETTO:-0500
TZNAME:EST
END:STANDARD
END:VTIMEZONE
END:VCALENDAR