BEGIN:VCALENDAR
VERSION:2.0
PRODID:-//wp-events-plugin.com//7.2.3.1//EN
BEGIN:VEVENT
UID:66@thinkmita.org
DTSTART;TZID=America/Detroit:20250415T123000
DTEND;TZID=America/Detroit:20250415T133000
DTSTAMP:20241120T152425Z
URL:https://thinkmita.org/events/safety-director-meeting/
SUMMARY:Safety Director Meeting
DESCRIPTION:Tuesday\, April 15\, 2025\, 12:30 PM – 1:30 PM\, Lansing Conv
 ention Center\, as part of the Michigan Safety Conference\n\n 	Register fo
 r the Michigan Safety Conference at https://michsafetyconference.org/atten
 d/\n
ATTACH;FMTTYPE=image/jpeg:https://thinkmita.org/wp-content/uploads/Unknown
 .png
CATEGORIES:Safety
LOCATION:Lansing Convention Center\, 333 E. Michigan Ave.\, Lansing\, MI\, 
 48933\, United States
X-APPLE-STRUCTURED-LOCATION;VALUE=URI;X-ADDRESS=333 E. Michigan Ave.\, Lans
 ing\, MI\, 48933\, United States;X-APPLE-RADIUS=100;X-TITLE=Lansing Conven
 tion Center:geo:0,0
END:VEVENT
BEGIN:VTIMEZONE
TZID:America/Detroit
X-LIC-LOCATION:America/Detroit
BEGIN:DAYLIGHT
DTSTART:20250309T030000
TZOFFSETFROM:-0500
TZOFFSETTO:-0400
TZNAME:EDT
END:DAYLIGHT
END:VTIMEZONE
END:VCALENDAR