BEGIN:VCALENDAR
VERSION:2.0
PRODID:-//wp-events-plugin.com//7.2.3.1//EN
BEGIN:VEVENT
UID:82@thinkmita.org
DTSTART;TZID=America/Detroit:20250916T100000
DTEND;TZID=America/Detroit:20250916T120000
DTSTAMP:20250708T192628Z
URL:https://thinkmita.org/events/safety-directors-meeting/
SUMMARY:Safety Directors Meeting
DESCRIPTION:MITA will host its next Safety Directors Meeting on September 1
 6th\, at 10 AM at the MITA Building.\n\nKatie Anderson from Healing with K
 atie will present on mental health and suicide prevention. A MIOSHA repres
 entative will be available to discuss safety grant opportunities through M
 IOSHA. Greg will provide an update on trends in MIOSHA citations\, highlig
 hting both positive and negative patterns. As always\, if you have a topic
  you’d like to discuss\, please get in touch with Greg at gregbrooks@thi
 nkmita.org or Matt Moody at mattmoody@thinkmita.org.\n\n&nbsp\;
ATTACH;FMTTYPE=image/jpeg:https://thinkmita.org/wp-content/uploads/MITA-Sa
 fety-Directors-Meeting.jpg
CATEGORIES:Safety
LOCATION:MITA\, 2937 Atrium Dr\, Okemos\, MI\, 48864\, United States
X-APPLE-STRUCTURED-LOCATION;VALUE=URI;X-ADDRESS=2937 Atrium Dr\, Okemos\, M
 I\, 48864\, United States;X-APPLE-RADIUS=100;X-TITLE=MITA:geo:0,0
END:VEVENT
BEGIN:VTIMEZONE
TZID:America/Detroit
X-LIC-LOCATION:America/Detroit
BEGIN:DAYLIGHT
DTSTART:20250309T030000
TZOFFSETFROM:-0500
TZOFFSETTO:-0400
TZNAME:EDT
END:DAYLIGHT
END:VTIMEZONE
END:VCALENDAR